BEGIN:VCALENDAR
VERSION:2.0
PRODID:-//Teatro Donizetti - ECPv6.6.3//NONSGML v1.0//EN
CALSCALE:GREGORIAN
METHOD:PUBLISH
X-ORIGINAL-URL:https://test.teatrodonizetti.it/it/
X-WR-CALDESC:Eventi per Teatro Donizetti
REFRESH-INTERVAL;VALUE=DURATION:PT1H
X-Robots-Tag:noindex
X-PUBLISHED-TTL:PT1H
BEGIN:VTIMEZONE
TZID:Europe/Rome
BEGIN:DAYLIGHT
TZOFFSETFROM:+0100
TZOFFSETTO:+0200
TZNAME:CEST
DTSTART:20230326T010000
END:DAYLIGHT
BEGIN:STANDARD
TZOFFSETFROM:+0200
TZOFFSETTO:+0100
TZNAME:CET
DTSTART:20231029T010000
END:STANDARD
END:VTIMEZONE
BEGIN:VEVENT
DTSTART;TZID=Europe/Rome:20231122T173000
DTEND;TZID=Europe/Rome:20231122T173000
DTSTAMP:20260422T140643
CREATED:20231103T161112Z
LAST-MODIFIED:20240209T143602Z
UID:10001292-1700674200-1700674200@test.teatrodonizetti.it
SUMMARY:L’Iliade\, il poema di una civiltà
DESCRIPTION:a cura di Alfredo Viscomi\nDocente di latino e greco presso il Liceo Classico “Paolo Sarpi” e docente di Lingua e Letteratura Latina presso l’Università Cattolica di Brescia. \nL’Iliade non rappresenta soltanto un capolavoro letterario\, bensì costituisce una vera e propria enciclopedia della cultura e della civiltà greche: è un testo fondativo\, in cui si delineano i valori della Grecia antica destinati a fissare gli ideali destinati a caratterizzare per lungo tratto la società greca\, gettando le basi per sviluppi successivi che investiranno poi la civiltà europea e occidentale. Il poema omerico viene indagato attraverso passi rappresentativi in cui gli eroi e gli dèi protagonisti della guerra di Troia incarnano\, attraverso l’azione e il pensiero\, il sistema di valori di riferimento\, nei quali ancora oggi è possibile riconoscere vizi e virtù dell’umanità intera. L’Iliade non appare quindi solo come il più grande poema di guerra della storia dell’uomo\, ma anche il poema di una civiltà.
URL:https://test.teatrodonizetti.it/it/evento/liliade-il-poema-di-una-civilta/
LOCATION:Sala della Musica “M. Tremaglia” – Teatro Donizetti
CATEGORIES:ABBONAMENTO PROSA,IN ABBONAMENTO,La Stagione dei Teatri,Prosa
ATTACH;FMTTYPE=image/png:https://test.teatrodonizetti.it/wp-content/uploads/2023/10/LIliade-il-poema-di-una-civilta.png
END:VEVENT
BEGIN:VEVENT
DTSTART;TZID=Europe/Rome:20231128T173000
DTEND;TZID=Europe/Rome:20231128T173000
DTSTAMP:20260422T140643
CREATED:20231103T155209Z
LAST-MODIFIED:20240209T143602Z
UID:10001467-1701192600-1701192600@test.teatrodonizetti.it
SUMMARY:Attualizzazione del mito dell’eroe
DESCRIPTION:a cura di Marco Pacati\nDocente di italiano e latino alle scuole superiori\, ex dirigente dell’Istituto Professionale per l’Industria e l’Artigianato “Cesare Pesenti”. \nDove possiamo incontrare oggi l’arroganza\, pur affascinante\, di Achille? O il dramma esistenziale di Ettore\, combattuto tra affetti familiari e legge dell’onore? Forse sul posto di lavoro o a scuola può capitarci di imbatterci nell’autoritarismo e nell’abuso di potere di Menelao e Agamennone? E ritroviamo in qualche nostro amico o conoscente l’impulsività adolescenziale\, incosciente eppure intrigante\, di Paride? \nLa recente epidemia di COVID ripropone in qualche modo il senso di colpa scatenato dall’ira degli dèi omerici? L’invasività dei social ha ridato vita alla cultura della vergogna? Il conformismo della società del dono è ancora presente nella realtà contemporanea? \nA queste curiose domande cerca di rispondere la relazione del prof. Marco Pacati\, in programma presso la sala musica del Teatro Donizetti il 28/11/p.v.; lungi dal costringere il testo omerico in anacronistiche e forzate attualizzazioni\, la conferenza cercherà di mostrare l’universalità extratemporale dei comportamenti umani di cui gli eroi dell’Iliade sono emblematici interpreti.
URL:https://test.teatrodonizetti.it/it/evento/attualizzazione-del-mito-delleroe/
LOCATION:Sala della Musica “M. Tremaglia” – Teatro Donizetti
CATEGORIES:ABBONAMENTO PROSA,IN ABBONAMENTO,La Stagione dei Teatri,Prosa
ATTACH;FMTTYPE=image/png:https://test.teatrodonizetti.it/wp-content/uploads/2023/10/Attualizzazione-del-mito-delleroe.png
END:VEVENT
END:VCALENDAR