BEGIN:VCALENDAR
VERSION:2.0
PRODID:-//Teatro Donizetti - ECPv6.6.3//NONSGML v1.0//EN
CALSCALE:GREGORIAN
METHOD:PUBLISH
X-WR-CALNAME:Teatro Donizetti
X-ORIGINAL-URL:https://test.teatrodonizetti.it/it/
X-WR-CALDESC:Eventi per Teatro Donizetti
REFRESH-INTERVAL;VALUE=DURATION:PT1H
X-Robots-Tag:noindex
X-PUBLISHED-TTL:PT1H
BEGIN:VTIMEZONE
TZID:Europe/Rome
BEGIN:DAYLIGHT
TZOFFSETFROM:+0100
TZOFFSETTO:+0200
TZNAME:CEST
DTSTART:20230326T010000
END:DAYLIGHT
BEGIN:STANDARD
TZOFFSETFROM:+0200
TZOFFSETTO:+0100
TZNAME:CET
DTSTART:20231029T010000
END:STANDARD
END:VTIMEZONE
BEGIN:VEVENT
DTSTART;TZID=Europe/Rome:20231205T173000
DTEND;TZID=Europe/Rome:20231205T173000
DTSTAMP:20260426T031101
CREATED:20231103T155212Z
LAST-MODIFIED:20240209T143602Z
UID:10001468-1701797400-1701797400@test.teatrodonizetti.it
SUMMARY:L’Iliade nell’arte
DESCRIPTION:a cura di Maria Grazia Recanati\nDocente di Storia dell’Arte Moderna presso l’Accademia di Belle Arti “G. Carrara”. \nLa ricezione dell’Iliade da parte degli artisti del mondo antico e tardoantico ha creato una serie di splendide immagini che\, dalla ceramica attica alla statuaria greco-romana\, dalla pittura parietale alla scultura funeraria dei sarcofagi di età imperiale\, rappresenta un repertorio fondamentale per lo sviluppo dell’arte europea\, arrivando alla tangenza con l’iconografia cristiana. Quest’ultima raccoglie elementi poetici e compositivi dall’iconografia classica dell’eroe e del compianto sulle sue spoglie\, costruendo in questo modo la narrazione della passione di Cristo. \nL’Iliade ci trasmette\, inoltre\, nella lunga descrizione dello scudo di Achille\, il primo esempio di ekphrasis\, traduzione linguistica dell’immaginario visivo\, che sarà esercizio fondamentale nell’arte retorica del mondo antico\, applicata ad opere d’arte esistenti o soltanto espressione della fantasia degli scrittori. \nIl volto di Omero\, che occupa nella galleria dei grandi del passato\, insieme a condottieri e filosofi\, un posto d’onore\, è divenuta\, con lo studio crudemente realistico della sua cecità profetica\, un’autentica icona della civiltà occidentale\, sopravvissuta nella riflessione degli artisti fino a tempi molto recenti.
URL:https://test.teatrodonizetti.it/it/evento/liliade-nellarte/
LOCATION:Sala della Musica “M. Tremaglia” – Teatro Donizetti
CATEGORIES:ABBONAMENTO PROSA,IN ABBONAMENTO,La Stagione dei Teatri,Prosa
ATTACH;FMTTYPE=image/png:https://test.teatrodonizetti.it/wp-content/uploads/2023/11/Iliade-nellarte.png
END:VEVENT
BEGIN:VEVENT
DTSTART;TZID=Europe/Rome:20231212T203000
DTEND;TZID=Europe/Rome:20231212T203000
DTSTAMP:20260426T031102
CREATED:20230508T141503Z
LAST-MODIFIED:20240209T143602Z
UID:10001345-1702413000-1702413000@test.teatrodonizetti.it
SUMMARY:Iliade. Il gioco degli dèi
DESCRIPTION:Giovedì 14 dicembre 2023\, ore 18.00 | Sala Musica – Teatro Donizetti\nIntorno a ILIADE\nIncontro con Alessio Boni e la compagnia\nIliade. “Il gioco degli dèi”:\ngli incontri\nScopri gli incontriIliade. “Il gioco degli dèi”:\nla mostra\nScopri la mostraIliade canta di un mondo in cui l’etica del successo non lascia spazio alla giustizia e gli uomini non decidono nulla\, ma sono agiti dagli dèi in una lunga e terribile guerra senza vincitori né vinti. La coscienza e la scelta non sono ancora cose che riguardano gli umani: la civiltà dovrà attendere l’età della Tragedia per conoscere la responsabilità personale e tutto il peso della libertà da quegli dèi che sono causa di tutto ma non hanno colpa di nulla.\nIn quel mondo arcaico dominato dalla forza\, dal Fato ineluttabile e da dèi capricciosi non è difficile specchiarci e riconoscere il nostro: le nostre vite dominate dalla paura\, dal desiderio di ricchezza\, dall’ossessione del nemico\, dai giochi di potere e da tutte le forze distruttive che ci sprofondano nell’irrazionale e rendono possibile la guerra.\nCi sono tutti i semi del tramonto del nostro Occidente in Iliade che\, come accade con la grande poesia\, contiene anche il suo opposto: la responsabilità e la libertà di scegliere e di dire no all’orrore. \nA dieci anni dalla nascita\, dopo I Duellanti e Don Chisciotte\, il Quadrivio\, formato da Roberto Aldorasi\, Alessio Boni\, Francesco Niccolini e Marcello Prayer\, riscrive e mette in scena l’Iliade per specchiarsi nei miti più antichi della poesia occidentale e nella guerra di tutte le guerre. \nRoberto Aldorasi\, Alessio Boni\, Marcello Prayer \nSpettacolo realizzato in occasione di Bergamo Brescia Capitale italiana della Cultura 2023\nPrima Nazionale: Bergamo\, Teatro Donizetti | 12 dicembre 2023
URL:https://test.teatrodonizetti.it/it/evento/iliade-il-gioco-degli-dei/2023-12-12/
LOCATION:Teatro Donizetti
CATEGORIES:ABBONAMENTO PROSA,IN ABBONAMENTO,La Stagione dei Teatri,Prosa
ATTACH;FMTTYPE=image/jpeg:https://test.teatrodonizetti.it/wp-content/uploads/2023/05/Alessio-Boni_foto-ph.-Gianmarco-Chieregato-scaled.jpg
END:VEVENT
BEGIN:VEVENT
DTSTART;TZID=Europe/Rome:20231213T203000
DTEND;TZID=Europe/Rome:20231213T203000
DTSTAMP:20260426T031102
CREATED:20230508T141503Z
LAST-MODIFIED:20240209T143602Z
UID:10001346-1702499400-1702499400@test.teatrodonizetti.it
SUMMARY:Iliade. Il gioco degli dèi
DESCRIPTION:Giovedì 14 dicembre 2023\, ore 18.00 | Sala Musica – Teatro Donizetti\nIntorno a ILIADE\nIncontro con Alessio Boni e la compagnia\nIliade. “Il gioco degli dèi”:\ngli incontri\nScopri gli incontriIliade. “Il gioco degli dèi”:\nla mostra\nScopri la mostraIliade canta di un mondo in cui l’etica del successo non lascia spazio alla giustizia e gli uomini non decidono nulla\, ma sono agiti dagli dèi in una lunga e terribile guerra senza vincitori né vinti. La coscienza e la scelta non sono ancora cose che riguardano gli umani: la civiltà dovrà attendere l’età della Tragedia per conoscere la responsabilità personale e tutto il peso della libertà da quegli dèi che sono causa di tutto ma non hanno colpa di nulla.\nIn quel mondo arcaico dominato dalla forza\, dal Fato ineluttabile e da dèi capricciosi non è difficile specchiarci e riconoscere il nostro: le nostre vite dominate dalla paura\, dal desiderio di ricchezza\, dall’ossessione del nemico\, dai giochi di potere e da tutte le forze distruttive che ci sprofondano nell’irrazionale e rendono possibile la guerra.\nCi sono tutti i semi del tramonto del nostro Occidente in Iliade che\, come accade con la grande poesia\, contiene anche il suo opposto: la responsabilità e la libertà di scegliere e di dire no all’orrore. \nA dieci anni dalla nascita\, dopo I Duellanti e Don Chisciotte\, il Quadrivio\, formato da Roberto Aldorasi\, Alessio Boni\, Francesco Niccolini e Marcello Prayer\, riscrive e mette in scena l’Iliade per specchiarsi nei miti più antichi della poesia occidentale e nella guerra di tutte le guerre. \nRoberto Aldorasi\, Alessio Boni\, Marcello Prayer \nSpettacolo realizzato in occasione di Bergamo Brescia Capitale italiana della Cultura 2023\nPrima Nazionale: Bergamo\, Teatro Donizetti | 12 dicembre 2023
URL:https://test.teatrodonizetti.it/it/evento/iliade-il-gioco-degli-dei/2023-12-13/
LOCATION:Teatro Donizetti
CATEGORIES:ABBONAMENTO PROSA,IN ABBONAMENTO,La Stagione dei Teatri,Prosa
ATTACH;FMTTYPE=image/jpeg:https://test.teatrodonizetti.it/wp-content/uploads/2023/05/Alessio-Boni_foto-ph.-Gianmarco-Chieregato-scaled.jpg
END:VEVENT
BEGIN:VEVENT
DTSTART;TZID=Europe/Rome:20231214T180000
DTEND;TZID=Europe/Rome:20231214T180000
DTSTAMP:20260426T031102
CREATED:20231103T155432Z
LAST-MODIFIED:20240209T143601Z
UID:10001469-1702576800-1702576800@test.teatrodonizetti.it
SUMMARY:Intorno a Iliade
DESCRIPTION:Incontro con gli artisti della compagnia.
URL:https://test.teatrodonizetti.it/it/evento/intorno-a-iliade/
LOCATION:Ridotto Gavazzeni – Teatro Donizetti
CATEGORIES:ABBONAMENTO PROSA,IN ABBONAMENTO,La Stagione dei Teatri,Prosa
ATTACH;FMTTYPE=image/png:https://test.teatrodonizetti.it/wp-content/uploads/2023/10/Intorno-a-Iliade.png
END:VEVENT
BEGIN:VEVENT
DTSTART;TZID=Europe/Rome:20231214T203000
DTEND;TZID=Europe/Rome:20231214T203000
DTSTAMP:20260426T031102
CREATED:20230508T141503Z
LAST-MODIFIED:20240209T143602Z
UID:10001347-1702585800-1702585800@test.teatrodonizetti.it
SUMMARY:Iliade. Il gioco degli dèi
DESCRIPTION:Giovedì 14 dicembre 2023\, ore 18.00 | Sala Musica – Teatro Donizetti\nIntorno a ILIADE\nIncontro con Alessio Boni e la compagnia\nIliade. “Il gioco degli dèi”:\ngli incontri\nScopri gli incontriIliade. “Il gioco degli dèi”:\nla mostra\nScopri la mostraIliade canta di un mondo in cui l’etica del successo non lascia spazio alla giustizia e gli uomini non decidono nulla\, ma sono agiti dagli dèi in una lunga e terribile guerra senza vincitori né vinti. La coscienza e la scelta non sono ancora cose che riguardano gli umani: la civiltà dovrà attendere l’età della Tragedia per conoscere la responsabilità personale e tutto il peso della libertà da quegli dèi che sono causa di tutto ma non hanno colpa di nulla.\nIn quel mondo arcaico dominato dalla forza\, dal Fato ineluttabile e da dèi capricciosi non è difficile specchiarci e riconoscere il nostro: le nostre vite dominate dalla paura\, dal desiderio di ricchezza\, dall’ossessione del nemico\, dai giochi di potere e da tutte le forze distruttive che ci sprofondano nell’irrazionale e rendono possibile la guerra.\nCi sono tutti i semi del tramonto del nostro Occidente in Iliade che\, come accade con la grande poesia\, contiene anche il suo opposto: la responsabilità e la libertà di scegliere e di dire no all’orrore. \nA dieci anni dalla nascita\, dopo I Duellanti e Don Chisciotte\, il Quadrivio\, formato da Roberto Aldorasi\, Alessio Boni\, Francesco Niccolini e Marcello Prayer\, riscrive e mette in scena l’Iliade per specchiarsi nei miti più antichi della poesia occidentale e nella guerra di tutte le guerre. \nRoberto Aldorasi\, Alessio Boni\, Marcello Prayer \nSpettacolo realizzato in occasione di Bergamo Brescia Capitale italiana della Cultura 2023\nPrima Nazionale: Bergamo\, Teatro Donizetti | 12 dicembre 2023
URL:https://test.teatrodonizetti.it/it/evento/iliade-il-gioco-degli-dei/2023-12-14/
LOCATION:Teatro Donizetti
CATEGORIES:ABBONAMENTO PROSA,IN ABBONAMENTO,La Stagione dei Teatri,Prosa
ATTACH;FMTTYPE=image/jpeg:https://test.teatrodonizetti.it/wp-content/uploads/2023/05/Alessio-Boni_foto-ph.-Gianmarco-Chieregato-scaled.jpg
END:VEVENT
BEGIN:VEVENT
DTSTART;TZID=Europe/Rome:20231215T203000
DTEND;TZID=Europe/Rome:20231215T203000
DTSTAMP:20260426T031102
CREATED:20230508T141503Z
LAST-MODIFIED:20240209T143602Z
UID:10001348-1702672200-1702672200@test.teatrodonizetti.it
SUMMARY:Iliade. Il gioco degli dèi
DESCRIPTION:Giovedì 14 dicembre 2023\, ore 18.00 | Sala Musica – Teatro Donizetti\nIntorno a ILIADE\nIncontro con Alessio Boni e la compagnia\nIliade. “Il gioco degli dèi”:\ngli incontri\nScopri gli incontriIliade. “Il gioco degli dèi”:\nla mostra\nScopri la mostraIliade canta di un mondo in cui l’etica del successo non lascia spazio alla giustizia e gli uomini non decidono nulla\, ma sono agiti dagli dèi in una lunga e terribile guerra senza vincitori né vinti. La coscienza e la scelta non sono ancora cose che riguardano gli umani: la civiltà dovrà attendere l’età della Tragedia per conoscere la responsabilità personale e tutto il peso della libertà da quegli dèi che sono causa di tutto ma non hanno colpa di nulla.\nIn quel mondo arcaico dominato dalla forza\, dal Fato ineluttabile e da dèi capricciosi non è difficile specchiarci e riconoscere il nostro: le nostre vite dominate dalla paura\, dal desiderio di ricchezza\, dall’ossessione del nemico\, dai giochi di potere e da tutte le forze distruttive che ci sprofondano nell’irrazionale e rendono possibile la guerra.\nCi sono tutti i semi del tramonto del nostro Occidente in Iliade che\, come accade con la grande poesia\, contiene anche il suo opposto: la responsabilità e la libertà di scegliere e di dire no all’orrore. \nA dieci anni dalla nascita\, dopo I Duellanti e Don Chisciotte\, il Quadrivio\, formato da Roberto Aldorasi\, Alessio Boni\, Francesco Niccolini e Marcello Prayer\, riscrive e mette in scena l’Iliade per specchiarsi nei miti più antichi della poesia occidentale e nella guerra di tutte le guerre. \nRoberto Aldorasi\, Alessio Boni\, Marcello Prayer \nSpettacolo realizzato in occasione di Bergamo Brescia Capitale italiana della Cultura 2023\nPrima Nazionale: Bergamo\, Teatro Donizetti | 12 dicembre 2023
URL:https://test.teatrodonizetti.it/it/evento/iliade-il-gioco-degli-dei/2023-12-15/
LOCATION:Teatro Donizetti
CATEGORIES:ABBONAMENTO PROSA,IN ABBONAMENTO,La Stagione dei Teatri,Prosa
ATTACH;FMTTYPE=image/jpeg:https://test.teatrodonizetti.it/wp-content/uploads/2023/05/Alessio-Boni_foto-ph.-Gianmarco-Chieregato-scaled.jpg
END:VEVENT
BEGIN:VEVENT
DTSTART;TZID=Europe/Rome:20231216T170000
DTEND;TZID=Europe/Rome:20231216T170000
DTSTAMP:20260426T031102
CREATED:20230508T141503Z
LAST-MODIFIED:20240209T143602Z
UID:10001349-1702746000-1702746000@test.teatrodonizetti.it
SUMMARY:Iliade. Il gioco degli dèi
DESCRIPTION:Giovedì 14 dicembre 2023\, ore 18.00 | Sala Musica – Teatro Donizetti\nIntorno a ILIADE\nIncontro con Alessio Boni e la compagnia\nIliade. “Il gioco degli dèi”:\ngli incontri\nScopri gli incontriIliade. “Il gioco degli dèi”:\nla mostra\nScopri la mostraIliade canta di un mondo in cui l’etica del successo non lascia spazio alla giustizia e gli uomini non decidono nulla\, ma sono agiti dagli dèi in una lunga e terribile guerra senza vincitori né vinti. La coscienza e la scelta non sono ancora cose che riguardano gli umani: la civiltà dovrà attendere l’età della Tragedia per conoscere la responsabilità personale e tutto il peso della libertà da quegli dèi che sono causa di tutto ma non hanno colpa di nulla.\nIn quel mondo arcaico dominato dalla forza\, dal Fato ineluttabile e da dèi capricciosi non è difficile specchiarci e riconoscere il nostro: le nostre vite dominate dalla paura\, dal desiderio di ricchezza\, dall’ossessione del nemico\, dai giochi di potere e da tutte le forze distruttive che ci sprofondano nell’irrazionale e rendono possibile la guerra.\nCi sono tutti i semi del tramonto del nostro Occidente in Iliade che\, come accade con la grande poesia\, contiene anche il suo opposto: la responsabilità e la libertà di scegliere e di dire no all’orrore. \nA dieci anni dalla nascita\, dopo I Duellanti e Don Chisciotte\, il Quadrivio\, formato da Roberto Aldorasi\, Alessio Boni\, Francesco Niccolini e Marcello Prayer\, riscrive e mette in scena l’Iliade per specchiarsi nei miti più antichi della poesia occidentale e nella guerra di tutte le guerre. \nRoberto Aldorasi\, Alessio Boni\, Marcello Prayer \nSpettacolo realizzato in occasione di Bergamo Brescia Capitale italiana della Cultura 2023\nPrima Nazionale: Bergamo\, Teatro Donizetti | 12 dicembre 2023
URL:https://test.teatrodonizetti.it/it/evento/iliade-il-gioco-degli-dei/2023-12-16/1/
LOCATION:Teatro Donizetti
CATEGORIES:ABBONAMENTO PROSA,IN ABBONAMENTO,La Stagione dei Teatri,Prosa
ATTACH;FMTTYPE=image/jpeg:https://test.teatrodonizetti.it/wp-content/uploads/2023/05/Alessio-Boni_foto-ph.-Gianmarco-Chieregato-scaled.jpg
END:VEVENT
BEGIN:VEVENT
DTSTART;TZID=Europe/Rome:20231216T203000
DTEND;TZID=Europe/Rome:20231216T203000
DTSTAMP:20260426T031102
CREATED:20230508T141503Z
LAST-MODIFIED:20240209T143602Z
UID:10001350-1702758600-1702758600@test.teatrodonizetti.it
SUMMARY:Iliade. Il gioco degli dèi
DESCRIPTION:Giovedì 14 dicembre 2023\, ore 18.00 | Sala Musica – Teatro Donizetti\nIntorno a ILIADE\nIncontro con Alessio Boni e la compagnia\nIliade. “Il gioco degli dèi”:\ngli incontri\nScopri gli incontriIliade. “Il gioco degli dèi”:\nla mostra\nScopri la mostraIliade canta di un mondo in cui l’etica del successo non lascia spazio alla giustizia e gli uomini non decidono nulla\, ma sono agiti dagli dèi in una lunga e terribile guerra senza vincitori né vinti. La coscienza e la scelta non sono ancora cose che riguardano gli umani: la civiltà dovrà attendere l’età della Tragedia per conoscere la responsabilità personale e tutto il peso della libertà da quegli dèi che sono causa di tutto ma non hanno colpa di nulla.\nIn quel mondo arcaico dominato dalla forza\, dal Fato ineluttabile e da dèi capricciosi non è difficile specchiarci e riconoscere il nostro: le nostre vite dominate dalla paura\, dal desiderio di ricchezza\, dall’ossessione del nemico\, dai giochi di potere e da tutte le forze distruttive che ci sprofondano nell’irrazionale e rendono possibile la guerra.\nCi sono tutti i semi del tramonto del nostro Occidente in Iliade che\, come accade con la grande poesia\, contiene anche il suo opposto: la responsabilità e la libertà di scegliere e di dire no all’orrore. \nA dieci anni dalla nascita\, dopo I Duellanti e Don Chisciotte\, il Quadrivio\, formato da Roberto Aldorasi\, Alessio Boni\, Francesco Niccolini e Marcello Prayer\, riscrive e mette in scena l’Iliade per specchiarsi nei miti più antichi della poesia occidentale e nella guerra di tutte le guerre. \nRoberto Aldorasi\, Alessio Boni\, Marcello Prayer \nSpettacolo realizzato in occasione di Bergamo Brescia Capitale italiana della Cultura 2023\nPrima Nazionale: Bergamo\, Teatro Donizetti | 12 dicembre 2023
URL:https://test.teatrodonizetti.it/it/evento/iliade-il-gioco-degli-dei/2023-12-16/2/
LOCATION:Teatro Donizetti
CATEGORIES:ABBONAMENTO PROSA,IN ABBONAMENTO,La Stagione dei Teatri,Prosa
ATTACH;FMTTYPE=image/jpeg:https://test.teatrodonizetti.it/wp-content/uploads/2023/05/Alessio-Boni_foto-ph.-Gianmarco-Chieregato-scaled.jpg
END:VEVENT
BEGIN:VEVENT
DTSTART;TZID=Europe/Rome:20231217T153000
DTEND;TZID=Europe/Rome:20231217T153000
DTSTAMP:20260426T031102
CREATED:20230508T141503Z
LAST-MODIFIED:20240209T143602Z
UID:10001351-1702827000-1702827000@test.teatrodonizetti.it
SUMMARY:Iliade. Il gioco degli dèi
DESCRIPTION:Giovedì 14 dicembre 2023\, ore 18.00 | Sala Musica – Teatro Donizetti\nIntorno a ILIADE\nIncontro con Alessio Boni e la compagnia\nIliade. “Il gioco degli dèi”:\ngli incontri\nScopri gli incontriIliade. “Il gioco degli dèi”:\nla mostra\nScopri la mostraIliade canta di un mondo in cui l’etica del successo non lascia spazio alla giustizia e gli uomini non decidono nulla\, ma sono agiti dagli dèi in una lunga e terribile guerra senza vincitori né vinti. La coscienza e la scelta non sono ancora cose che riguardano gli umani: la civiltà dovrà attendere l’età della Tragedia per conoscere la responsabilità personale e tutto il peso della libertà da quegli dèi che sono causa di tutto ma non hanno colpa di nulla.\nIn quel mondo arcaico dominato dalla forza\, dal Fato ineluttabile e da dèi capricciosi non è difficile specchiarci e riconoscere il nostro: le nostre vite dominate dalla paura\, dal desiderio di ricchezza\, dall’ossessione del nemico\, dai giochi di potere e da tutte le forze distruttive che ci sprofondano nell’irrazionale e rendono possibile la guerra.\nCi sono tutti i semi del tramonto del nostro Occidente in Iliade che\, come accade con la grande poesia\, contiene anche il suo opposto: la responsabilità e la libertà di scegliere e di dire no all’orrore. \nA dieci anni dalla nascita\, dopo I Duellanti e Don Chisciotte\, il Quadrivio\, formato da Roberto Aldorasi\, Alessio Boni\, Francesco Niccolini e Marcello Prayer\, riscrive e mette in scena l’Iliade per specchiarsi nei miti più antichi della poesia occidentale e nella guerra di tutte le guerre. \nRoberto Aldorasi\, Alessio Boni\, Marcello Prayer \nSpettacolo realizzato in occasione di Bergamo Brescia Capitale italiana della Cultura 2023\nPrima Nazionale: Bergamo\, Teatro Donizetti | 12 dicembre 2023
URL:https://test.teatrodonizetti.it/it/evento/iliade-il-gioco-degli-dei/2023-12-17/
LOCATION:Teatro Donizetti
CATEGORIES:ABBONAMENTO PROSA,IN ABBONAMENTO,La Stagione dei Teatri,Prosa
ATTACH;FMTTYPE=image/jpeg:https://test.teatrodonizetti.it/wp-content/uploads/2023/05/Alessio-Boni_foto-ph.-Gianmarco-Chieregato-scaled.jpg
END:VEVENT
BEGIN:VEVENT
DTSTART;TZID=Europe/Rome:20231218T203000
DTEND;TZID=Europe/Rome:20231218T203000
DTSTAMP:20260426T031102
CREATED:20230508T141503Z
LAST-MODIFIED:20240209T143602Z
UID:10001352-1702931400-1702931400@test.teatrodonizetti.it
SUMMARY:Iliade. Il gioco degli dèi
DESCRIPTION:Giovedì 14 dicembre 2023\, ore 18.00 | Sala Musica – Teatro Donizetti\nIntorno a ILIADE\nIncontro con Alessio Boni e la compagnia\nIliade. “Il gioco degli dèi”:\ngli incontri\nScopri gli incontriIliade. “Il gioco degli dèi”:\nla mostra\nScopri la mostraIliade canta di un mondo in cui l’etica del successo non lascia spazio alla giustizia e gli uomini non decidono nulla\, ma sono agiti dagli dèi in una lunga e terribile guerra senza vincitori né vinti. La coscienza e la scelta non sono ancora cose che riguardano gli umani: la civiltà dovrà attendere l’età della Tragedia per conoscere la responsabilità personale e tutto il peso della libertà da quegli dèi che sono causa di tutto ma non hanno colpa di nulla.\nIn quel mondo arcaico dominato dalla forza\, dal Fato ineluttabile e da dèi capricciosi non è difficile specchiarci e riconoscere il nostro: le nostre vite dominate dalla paura\, dal desiderio di ricchezza\, dall’ossessione del nemico\, dai giochi di potere e da tutte le forze distruttive che ci sprofondano nell’irrazionale e rendono possibile la guerra.\nCi sono tutti i semi del tramonto del nostro Occidente in Iliade che\, come accade con la grande poesia\, contiene anche il suo opposto: la responsabilità e la libertà di scegliere e di dire no all’orrore. \nA dieci anni dalla nascita\, dopo I Duellanti e Don Chisciotte\, il Quadrivio\, formato da Roberto Aldorasi\, Alessio Boni\, Francesco Niccolini e Marcello Prayer\, riscrive e mette in scena l’Iliade per specchiarsi nei miti più antichi della poesia occidentale e nella guerra di tutte le guerre. \nRoberto Aldorasi\, Alessio Boni\, Marcello Prayer \nSpettacolo realizzato in occasione di Bergamo Brescia Capitale italiana della Cultura 2023\nPrima Nazionale: Bergamo\, Teatro Donizetti | 12 dicembre 2023
URL:https://test.teatrodonizetti.it/it/evento/iliade-il-gioco-degli-dei/2023-12-18/
LOCATION:Teatro Donizetti
CATEGORIES:ABBONAMENTO PROSA,IN ABBONAMENTO,La Stagione dei Teatri,Prosa
ATTACH;FMTTYPE=image/jpeg:https://test.teatrodonizetti.it/wp-content/uploads/2023/05/Alessio-Boni_foto-ph.-Gianmarco-Chieregato-scaled.jpg
END:VEVENT
END:VCALENDAR