BEGIN:VCALENDAR
VERSION:2.0
PRODID:-//Teatro Donizetti - ECPv6.6.3//NONSGML v1.0//EN
CALSCALE:GREGORIAN
METHOD:PUBLISH
X-ORIGINAL-URL:https://test.teatrodonizetti.it/it/
X-WR-CALDESC:Eventi per Teatro Donizetti
REFRESH-INTERVAL;VALUE=DURATION:PT1H
X-Robots-Tag:noindex
X-PUBLISHED-TTL:PT1H
BEGIN:VTIMEZONE
TZID:Europe/Rome
BEGIN:DAYLIGHT
TZOFFSETFROM:+0100
TZOFFSETTO:+0200
TZNAME:CEST
DTSTART:20220327T010000
END:DAYLIGHT
BEGIN:STANDARD
TZOFFSETFROM:+0200
TZOFFSETTO:+0100
TZNAME:CET
DTSTART:20221030T010000
END:STANDARD
END:VTIMEZONE
BEGIN:VEVENT
DTSTART;TZID=Europe/Rome:20221221T203000
DTEND;TZID=Europe/Rome:20221221T203000
DTSTAMP:20260423T095154
CREATED:20220524T143849Z
LAST-MODIFIED:20240209T143806Z
UID:10000364-1671654600-1671654600@test.teatrodonizetti.it
SUMMARY:Matteotti Medley
DESCRIPTION:INCONTRO INTORNO A MATTEOTTI MEDLEY\nMercoledì 21 dicembre 2022 al termine dello spettacolo | Teatro Sociale \nIncontro con ISREC Bergamo\, Istituto bergamasco per la Storia delle Resistenze e dell’Età Contemporanea\, e Maurizio Donadoni\nModera Maria Grazia Panigada\, Direttrice Artistica della Stagione di Prosa e Altri Percorsi \nParlando a dei coetanei del tempo\, un Giacomo Matteotti poco più che ventenne aveva detto: «Ogni epoca ha avuto i suoi martiri\, le sue vittime\, gli inutili eroi che col loro sacrificio\, hanno aperto gli occhi e la strada agli altri».  Vent’anni dopo\, il 10 giugno del 1924\, in un martedì di sole quasi estivo\, a Roma\, sul lungotevere Arnaldo da Brescia\, quello stesso “ragazzo” veniva rapito e ucciso da un gruppo di “arditi” del fascio milanese\, squadraccia della cosiddetta “Ceka fascista”\, organismo (segreto ma non tanto…) voluto da Mussolini per mettere a tacere gli oppositori interni ed esterni al fascismo. Oggi una via\, un corso\, una piazza Giacomo Matteotti esistono in molte città d’Italia. E se qualcuno vuole sapere da noi come ci si arriva gli si risponde con relativa facilità. Se però ci viene chiesto a bruciapelo chi era Giacomo Matteotti\, pochi tra noi saprebbero andare oltre un generico: “deputato socialista ucciso dai fascisti nel…”\, con naufragio immediato a partire dalla data esatta. \nChe si sappia così poco della storia di questo “inutile eroe”\, grazie al cui sacrificio – con quello di tanti altri – oggi viviamo in libertà\, è un peccato. Il suo rapimento e il suo assassinio furono snodo fondamentale nell’affermazione del regime totalitario in Italia. Per qualche tempo\, in seguito a quel delitto\, il fascismo sembrò sul punto di “sfasciarsi”. L’occasione\, com’è noto\, fu persa dalle opposizioni che\, ritiratesi dal parlamento\, furono disinnescate con abilità machiavellica da Mussolini che poté impunemente dichiarare di assumersi tutta “la responsabilità politica\, morale\, storica” – tralasciò “penale”… – di quanto era avvenuto. \nMatteotti medley ripercorre questa storia – emblema di italici vizi e italiche virtù – alternando il racconto dei fatti nudi e (talvolta) crudi\, a citazioni da musiche all’epoca popolari: dalle marcette squadriste\, agli stornelli contro il Negus\, dalle musiche da ballo alle canzoni d’amore diffuse dalle radio Balilla\, agli esperimenti di quella musica colta d’ avanguardia che\, proprio nei primi del ‘900\, era in cerca\, con scandalo dei benpensanti\, d’inaudite sonorità. \nUna narrazione d’un solo attore\, ma a molteplici voci\, che si espande in uno spazio scenico nitido\, scarno e rigoroso: luogo dove il passato prende corpo attraverso corpo e voce dell’interprete; dove il racconto documentale si fa testimonianza funambolica tra grande storia e piccole storie. E dove ognuno di noi è chiamato a rispondere\, come può o come deve\, alla domanda: che valore ha\, per noi\, oggi\, la democrazia?
URL:https://test.teatrodonizetti.it/it/evento/matteotti-medley/
LOCATION:Teatro Sociale
CATEGORIES:CARNET STORIA TEATRO E SOCIETÀ,IN ABBONAMENTO,La Stagione dei Teatri,Storia, Teatro e Società
ATTACH;FMTTYPE=image/jpeg:https://test.teatrodonizetti.it/wp-content/uploads/2022/05/B5_7110-scaled.jpg
END:VEVENT
END:VCALENDAR